BEGIN:VCALENDAR
VERSION:2.0
PRODID:-//80.90.55.55//NONSGML kigkonsult.se iCalcreator 2.26.9//
CALSCALE:GREGORIAN
METHOD:PUBLISH
X-FROM-URL:https://www.groussbus.lu
X-WR-TIMEZONE:Europe/Luxembourg
BEGIN:VTIMEZONE
TZID:Europe/Luxembourg
X-LIC-LOCATION:Europe/Luxembourg
BEGIN:STANDARD
DTSTART:20201025T030000
TZOFFSETFROM:+0200
TZOFFSETTO:+0100
RDATE:20211031T030000
TZNAME:CET
END:STANDARD
BEGIN:DAYLIGHT
DTSTART:20210328T020000
TZOFFSETFROM:+0100
TZOFFSETTO:+0200
RDATE:20220327T020000
TZNAME:CEST
END:DAYLIGHT
END:VTIMEZONE
BEGIN:VEVENT
UID:ai1ec-2045@groussbus.lu
DTSTAMP:20210425T131238Z
CATEGORIES;LANGUAGE=de-DE:Déchets\,Vieux papier
CONTACT:
DESCRIPTION:
DTSTART;TZID=Europe/Luxembourg:20200103T070000
DTEND;TZID=Europe/Luxembourg:20200103T170000
EXDATE;TZID=Europe/Luxembourg:20210101T070000
GEO:+49.82678;+5.96547
LOCATION:Commune de Grosbous @ Grosbous\, Luxemburg
RRULE:FREQ=MONTHLY;BYDAY=1FR
SEQUENCE:0
SUMMARY:Vieux papier
URL:https://www.groussbus.lu/Veranstaltung/vieux-papier/
X-COST-TYPE:free
END:VEVENT
BEGIN:VEVENT
UID:ai1ec-4676@www.groussbus.lu/html
DTSTAMP:20210425T131238Z
CATEGORIES;LANGUAGE=de-DE:Déchets\,Vieux papier
CONTACT:
DESCRIPTION:
DTSTART;TZID=Europe/Luxembourg:20210102T070000
DTEND;TZID=Europe/Luxembourg:20210102T170000
GEO:+49.82678;+5.96547
LOCATION:Commune de Grosbous @ Grosbous\, Luxemburg
SEQUENCE:0
SUMMARY:Vieux papier samedi
URL:https://www.groussbus.lu/Veranstaltung/vieux-papier-2/
X-COST-TYPE:free
END:VEVENT
BEGIN:VEVENT
UID:ai1ec-2048@groussbus.lu
DTSTAMP:20210425T131238Z
CATEGORIES;LANGUAGE=de-DE:Encombrants
CONTACT:sur commande / auf Voranmeldung\; 83 80 22 1
DESCRIPTION:Umeldung bis Mëttwochs 12:00 Auer\ninscription jusque mercredi 
 12:00 heures\n83 80 22 1\npopulation@groussbus.lu
DTSTART;TZID=Europe/Luxembourg:20210115T070000
GEO:+49.82678;+5.96547
LOCATION:Commune de Grosbous @ Grosbous\, Luxemburg
RDATE;TZID=Europe/Luxembourg:20210416T070000
RDATE;TZID=Europe/Luxembourg:20210716T070000
RDATE;TZID=Europe/Luxembourg:20211015T070000
SEQUENCE:0
SUMMARY:Encombrants/Sperrmüll
URL:https://www.groussbus.lu/Veranstaltung/encombrants-sperrmuell/
X-COST-TYPE:free
X-ALT-DESC;FMTTYPE=text/html:<!DOCTYPE HTML PUBLIC '-//W3C//DTD HTML 3.2//E
 N'>\\n<HTML>\\n<HEAD>\\n<TITLE></TITLE>\\n</HEAD>\\n<BODY><p>Umeldung bis 
 Mëttwochs 12:00 Auer<br />\ninscription jusque mercredi 12:00 heures<br />
 \n83 80 22 1<br />\n<a href='mailto:population@groussbus.lu'>population@gr
 oussbus.lu</a></p>\n</BODY></HTML>
X-COST:0.35€/kg
X-INSTANT-EVENT:1
END:VEVENT
END:VCALENDAR
