BEGIN:VCALENDAR
VERSION:2.0
PRODID:-//80.90.55.55//NONSGML kigkonsult.se iCalcreator 2.26.9//
CALSCALE:GREGORIAN
METHOD:PUBLISH
X-WR-CALNAME:Commune de Grosbous
X-WR-CALDESC:Bienvenu sur le site de la commune de Grosbous
X-FROM-URL:https://www.groussbus.lu
X-WR-TIMEZONE:Europe/Luxembourg
BEGIN:VTIMEZONE
TZID:Europe/Luxembourg
X-LIC-LOCATION:Europe/Luxembourg
BEGIN:STANDARD
DTSTART:20211031T030000
TZOFFSETFROM:+0200
TZOFFSETTO:+0100
RDATE:20221030T030000
TZNAME:CET
END:STANDARD
BEGIN:DAYLIGHT
DTSTART:20210328T020000
TZOFFSETFROM:+0100
TZOFFSETTO:+0200
RDATE:20220327T020000,20230326T020000
TZNAME:CEST
END:DAYLIGHT
END:VTIMEZONE
BEGIN:VEVENT
UID:ai1ec-4703@www.groussbus.lu/html
DTSTAMP:20211007T105054Z
CATEGORIES;LANGUAGE=de-DE:Biodéchets
CONTACT:
DESCRIPTION:
DTSTART;TZID=Europe/Luxembourg:20210506T070000
EXDATE;TZID=Europe/Luxembourg:20210513T070000
RRULE:FREQ=WEEKLY;UNTIL=20211028T235959Z
SEQUENCE:0
SUMMARY:Biodéchets
URL:https://www.groussbus.lu/Veranstaltung/biodechets/
X-COST-TYPE:free
X-INSTANT-EVENT:1
END:VEVENT
END:VCALENDAR
