BEGIN:VCALENDAR
VERSION:2.0
PRODID:-//80.90.55.55//NONSGML kigkonsult.se iCalcreator 2.26.9//
CALSCALE:GREGORIAN
METHOD:PUBLISH
X-WR-CALNAME:Commune de Grosbous
X-WR-CALDESC:Bienvenu sur le site de la commune de Grosbous
X-FROM-URL:https://www.groussbus.lu
X-WR-TIMEZONE:Europe/Luxembourg
BEGIN:VTIMEZONE
TZID:Europe/Luxembourg
X-LIC-LOCATION:Europe/Luxembourg
BEGIN:STANDARD
DTSTART:20201025T030000
TZOFFSETFROM:+0200
TZOFFSETTO:+0100
RDATE:20211031T030000
TZNAME:CET
END:STANDARD
BEGIN:DAYLIGHT
DTSTART:20210328T020000
TZOFFSETFROM:+0100
TZOFFSETTO:+0200
RDATE:20220327T020000
TZNAME:CEST
END:DAYLIGHT
END:VTIMEZONE
BEGIN:VEVENT
UID:ai1ec-4684@www.groussbus.lu/html
DTSTAMP:20210426T152921Z
CATEGORIES;LANGUAGE=de-DE:Manifestations
CONTACT:APEGD Elterevereenegung
DESCRIPTION:
DTSTART;VALUE=DATE:20200425
DTEND;VALUE=DATE:20200426
SEQUENCE:0
SUMMARY:Secondhand fir Kannersaachen – reporté
URL:https://www.groussbus.lu/Veranstaltung/secondhand-fir-kannersaachen/
X-COST-TYPE:free
END:VEVENT
END:VCALENDAR
