BEGIN:VCALENDAR
VERSION:2.0
PRODID:-//80.90.55.55//NONSGML kigkonsult.se iCalcreator 2.26.9//
CALSCALE:GREGORIAN
METHOD:PUBLISH
X-WR-CALNAME:Commune de Grosbous
X-WR-CALDESC:Bienvenu sur le site de la commune de Grosbous
X-FROM-URL:https://www.groussbus.lu
X-WR-TIMEZONE:Europe/Luxembourg
BEGIN:VTIMEZONE
TZID:Europe/Luxembourg
X-LIC-LOCATION:Europe/Luxembourg
BEGIN:STANDARD
DTSTART:20201025T030000
TZOFFSETFROM:+0200
TZOFFSETTO:+0100
RDATE:20211031T030000
TZNAME:CET
END:STANDARD
BEGIN:DAYLIGHT
DTSTART:20210328T020000
TZOFFSETFROM:+0100
TZOFFSETTO:+0200
RDATE:20220327T020000
TZNAME:CEST
END:DAYLIGHT
END:VTIMEZONE
BEGIN:VEVENT
UID:ai1ec-2051@groussbus.lu
DTSTAMP:20210422T093712Z
CATEGORIES;LANGUAGE=de-DE:Bicherbus
CONTACT:
DESCRIPTION:
DTSTART;TZID=Europe/Luxembourg:20201218T141000
DTEND;TZID=Europe/Luxembourg:20201218T144000
GEO:+49.827397;+5.965524
LOCATION:arrêt de Bus école @ Rue d'Ettelbruck\, Grosbous\, Luxemburg
RDATE;TZID=Europe/Luxembourg:20210122T141000
RDATE;TZID=Europe/Luxembourg:20210212T141000
RDATE;TZID=Europe/Luxembourg:20210312T141000
RDATE;TZID=Europe/Luxembourg:20210402T141000
RDATE;TZID=Europe/Luxembourg:20210507T141000
RDATE;TZID=Europe/Luxembourg:20210604T141000
RDATE;TZID=Europe/Luxembourg:20210625T141000
RDATE;TZID=Europe/Luxembourg:20210716T141000
RDATE;TZID=Europe/Luxembourg:20210910T141000
RDATE;TZID=Europe/Luxembourg:20211001T141000
RDATE;TZID=Europe/Luxembourg:20211022T141000
RDATE;TZID=Europe/Luxembourg:20211119T141000
RDATE;TZID=Europe/Luxembourg:20211210T141000
SEQUENCE:0
SUMMARY:Bicherbus
URL:https://www.groussbus.lu/Veranstaltung/bicherbus/
X-COST-TYPE:free
END:VEVENT
END:VCALENDAR
