BEGIN:VCALENDAR
VERSION:2.0
PRODID:-//80.90.55.55//NONSGML kigkonsult.se iCalcreator 2.26.9//
CALSCALE:GREGORIAN
METHOD:PUBLISH
X-WR-CALNAME:Commune de Grosbous
X-WR-CALDESC:Bienvenu sur le site de la commune de Grosbous
X-FROM-URL:https://www.groussbus.lu
X-WR-TIMEZONE:Europe/Luxembourg
BEGIN:VTIMEZONE
TZID:Europe/Luxembourg
X-LIC-LOCATION:Europe/Luxembourg
BEGIN:STANDARD
DTSTART:20211031T030000
TZOFFSETFROM:+0200
TZOFFSETTO:+0100
RDATE:20221030T030000
TZNAME:CET
END:STANDARD
BEGIN:DAYLIGHT
DTSTART:20210328T020000
TZOFFSETFROM:+0100
TZOFFSETTO:+0200
RDATE:20220327T020000,20230326T020000
TZNAME:CEST
END:DAYLIGHT
END:VTIMEZONE
BEGIN:VEVENT
UID:ai1ec-2046@groussbus.lu
DTSTAMP:20211007T190833Z
CATEGORIES;LANGUAGE=de-DE:Déchets\,Superdreckskëscht
CONTACT:
DESCRIPTION:
DTSTART;TZID=Europe/Luxembourg:20210119T070000
GEO:+49.82678;+5.96547
LOCATION:Commune de Grosbous @ Grosbous\, Luxemburg
RDATE;TZID=Europe/Luxembourg:20210413T070000
RDATE;TZID=Europe/Luxembourg:20210708T070000
RDATE;TZID=Europe/Luxembourg:20211014T070000
SEQUENCE:0
SUMMARY:Superdreckskëscht
URL:https://www.groussbus.lu/Veranstaltung/superdreckskescht/
X-COST-TYPE:free
X-INSTANT-EVENT:1
END:VEVENT
END:VCALENDAR
