BEGIN:VCALENDAR
VERSION:2.0
PRODID:-//108.174.149.174//NONSGML kigkonsult.se iCalcreator 2.24.2//
CALSCALE:GREGORIAN
METHOD:PUBLISH
X-FROM-URL:http://www.groussbus.lu/html
X-WR-TIMEZONE:Europe/Luxembourg
BEGIN:VTIMEZONE
TZID:Europe/Luxembourg
X-LIC-LOCATION:Europe/Luxembourg
BEGIN:STANDARD
DTSTART:20191027T030000
TZOFFSETFROM:+0200
TZOFFSETTO:+0100
RDATE:20201025T030000
TZNAME:CET
END:STANDARD
BEGIN:DAYLIGHT
DTSTART:20200329T020000
TZOFFSETFROM:+0100
TZOFFSETTO:+0200
RDATE:20210328T020000
TZNAME:CEST
END:DAYLIGHT
END:VTIMEZONE
BEGIN:VEVENT
UID:ai1ec-2049@groussbus.lu
DTSTAMP:20200125T112551Z
CATEGORIES;LANGUAGE=de-DE:App. électriques\,Déchets
CONTACT:sur commande / auf Voranmeldung\; 83 80 22 1
DESCRIPTION:Umeldung bis Mëttwochs 12:00 Auer\ninscription jusque mercredi 
 12:00 heures\n83 80 22 1\npopulation@groussbus.lu
DTSTART;VALUE=DATE:20200207
DTEND;VALUE=DATE:20200208
GEO:+49.82678;+5.96547
LOCATION:Commune de Grosbous @ Grosbous\, Luxemburg
RDATE;TZID=Europe/Luxembourg:20200508T000000
RDATE;TZID=Europe/Luxembourg:20200807T000000
RDATE;TZID=Europe/Luxembourg:20201106T000000
SEQUENCE:0
SUMMARY:App. élctriques
URL:http://www.groussbus.lu/html/Veranstaltung/app-elctriques/
X-COST-TYPE:free
X-ALT-DESC;FMTTYPE=text/html:<!DOCTYPE HTML PUBLIC '-//W3C//DTD HTML 3.2//E
 N'>\\n<HTML>\\n<HEAD>\\n<TITLE></TITLE>\\n</HEAD>\\n<BODY><p>Umeldung bis 
 Mëttwochs 12:00 Auer<br />\ninscription jusque mercredi 12:00 heures<br />
 \n83 80 22 1<br />\n<a href='mailto:population@groussbus.lu'>population@gr
 oussbus.lu</a></p>\n</BODY></HTML>
END:VEVENT
END:VCALENDAR
