BEGIN:VCALENDAR
VERSION:2.0
PRODID:-//108.174.149.174//NONSGML kigkonsult.se iCalcreator 2.24.2//
CALSCALE:GREGORIAN
METHOD:PUBLISH
X-WR-CALNAME:Commune de Grosbous
X-WR-CALDESC:Bienvenu sur le site de la commune de Grosbous
X-FROM-URL:http://www.groussbus.lu/html
X-WR-TIMEZONE:Europe/Luxembourg
BEGIN:VTIMEZONE
TZID:Europe/Luxembourg
X-LIC-LOCATION:Europe/Luxembourg
BEGIN:STANDARD
DTSTART:20191027T030000
TZOFFSETFROM:+0200
TZOFFSETTO:+0100
RDATE:20201025T030000
TZNAME:CET
END:STANDARD
BEGIN:DAYLIGHT
DTSTART:20200329T020000
TZOFFSETFROM:+0100
TZOFFSETTO:+0200
RDATE:20210328T020000
TZNAME:CEST
END:DAYLIGHT
END:VTIMEZONE
BEGIN:VEVENT
UID:ai1ec-3078@www.groussbus.lu/html
DTSTAMP:20200126T174226Z
CATEGORIES;LANGUAGE=de-DE:Manifestations
CONTACT:
DESCRIPTION:
DTSTART;VALUE=DATE:20200117
DTEND;VALUE=DATE:20200118
GEO:+49.823928;+5.958389
LOCATION:Centre Weihersäift @ Grosbous\, Luxemburg
SEQUENCE:0
SUMMARY:Hierkenowend
URL:http://www.groussbus.lu/html/Veranstaltung/hierkenowend/
X-COST-TYPE:free
END:VEVENT
END:VCALENDAR
