BEGIN:VCALENDAR
VERSION:2.0
PRODID:-//108.174.149.174//NONSGML kigkonsult.se iCalcreator 2.24.2//
CALSCALE:GREGORIAN
METHOD:PUBLISH
X-WR-CALNAME:Commune de Grosbous
X-WR-CALDESC:Bienvenu sur le site de la commune de Grosbous
X-FROM-URL:http://www.groussbus.lu/html
X-WR-TIMEZONE:Europe/Luxembourg
BEGIN:VTIMEZONE
TZID:Europe/Luxembourg
X-LIC-LOCATION:Europe/Luxembourg
BEGIN:STANDARD
DTSTART:20191027T030000
TZOFFSETFROM:+0200
TZOFFSETTO:+0100
RDATE:20201025T030000
TZNAME:CET
END:STANDARD
BEGIN:DAYLIGHT
DTSTART:20200329T020000
TZOFFSETFROM:+0100
TZOFFSETTO:+0200
RDATE:20210328T020000
TZNAME:CEST
END:DAYLIGHT
END:VTIMEZONE
BEGIN:VEVENT
UID:ai1ec-2048@groussbus.lu
DTSTAMP:20200126T174204Z
CATEGORIES;LANGUAGE=de-DE:Encombrants
CONTACT:sur commande / auf Voranmeldung\; 83 80 22 1
DESCRIPTION:<p>Umeldung bis Mëttwochs 12:00 Auer<br />\ninscription jusque 
 mercredi 12:00 heures<br />\n83 80 22 1<br />\n<a href='mailto:population@
 groussbus.lu'>population@groussbus.lu</a></p>
DTSTART;VALUE=DATE:20200117
DTEND;VALUE=DATE:20200118
GEO:+49.82678;+5.96547
LOCATION:Commune de Grosbous @ Grosbous\, Luxemburg
RDATE;TZID=Europe/Luxembourg:20200417T000000
RDATE;TZID=Europe/Luxembourg:20200717T000000
RDATE;TZID=Europe/Luxembourg:20201016T000000
SEQUENCE:0
SUMMARY:Encombrants/Sperrmüll
URL:http://www.groussbus.lu/html/Veranstaltung/encombrants-sperrmuell/
X-COST-TYPE:free
X-COST:0.35€/kg
END:VEVENT
END:VCALENDAR
