BEGIN:VCALENDAR
VERSION:2.0
PRODID:-//108.174.149.174//NONSGML kigkonsult.se iCalcreator 2.24.2//
CALSCALE:GREGORIAN
METHOD:PUBLISH
X-FROM-URL:http://www.groussbus.lu/html
X-WR-TIMEZONE:Europe/Luxembourg
BEGIN:VTIMEZONE
TZID:Europe/Luxembourg
X-LIC-LOCATION:Europe/Luxembourg
BEGIN:STANDARD
DTSTART:20191027T030000
TZOFFSETFROM:+0200
TZOFFSETTO:+0100
RDATE:20201025T030000
TZNAME:CET
END:STANDARD
BEGIN:DAYLIGHT
DTSTART:20200329T020000
TZOFFSETFROM:+0100
TZOFFSETTO:+0200
RDATE:20210328T020000
TZNAME:CEST
END:DAYLIGHT
END:VTIMEZONE
BEGIN:VEVENT
UID:ai1ec-3087@www.groussbus.lu/html
DTSTAMP:20200125T112824Z
CATEGORIES;LANGUAGE=de-DE:Assemblées
CONTACT:
DESCRIPTION:
DTSTART;VALUE=DATE:20200103
DTEND;VALUE=DATE:20200104
SEQUENCE:0
SUMMARY:GV Jeunesse Groussbus
URL:http://www.groussbus.lu/html/Veranstaltung/gv-jeunesse-groussbus/
X-COST-TYPE:free
END:VEVENT
BEGIN:VEVENT
UID:ai1ec-2052@groussbus.lu
DTSTAMP:20200125T112824Z
CATEGORIES;LANGUAGE=de-DE:Assemblées
CONTACT:
DESCRIPTION:
DTSTART;VALUE=DATE:20200124
DTEND;VALUE=DATE:20200125
SEQUENCE:0
SUMMARY:GV Groussbusser Pompjeeën
URL:http://www.groussbus.lu/html/Veranstaltung/gv-groussbusser-pompjeeen/
X-COST-TYPE:free
END:VEVENT
BEGIN:VEVENT
UID:ai1ec-4678@www.groussbus.lu/html
DTSTAMP:20200125T112824Z
CATEGORIES;LANGUAGE=de-DE:Assemblées
CONTACT:
DESCRIPTION:
DTSTART;VALUE=DATE:20200208
DTEND;VALUE=DATE:20200209
SEQUENCE:0
SUMMARY:GV Gutt Noperen
URL:http://www.groussbus.lu/html/Veranstaltung/gv-gutt-noperen/
X-COST-TYPE:free
END:VEVENT
BEGIN:VEVENT
UID:ai1ec-3084@www.groussbus.lu/html
DTSTAMP:20200125T112824Z
CATEGORIES;LANGUAGE=de-DE:Assemblées
CONTACT:
DESCRIPTION:
DTSTART;VALUE=DATE:20200307
DTEND;VALUE=DATE:20200308
GEO:+49.824039;+5.958475
LOCATION:Centre Weihersäift @ Grosbous\, Luxemburg
SEQUENCE:0
SUMMARY:GV Agilitysport
URL:http://www.groussbus.lu/html/Veranstaltung/gv-agilitysport/
X-COST-TYPE:free
END:VEVENT
BEGIN:VEVENT
UID:ai1ec-3080@www.groussbus.lu/html
DTSTAMP:20200125T112824Z
CATEGORIES;LANGUAGE=de-DE:Assemblées
CONTACT:
DESCRIPTION:
DTSTART;VALUE=DATE:20200308
DTEND;VALUE=DATE:20200309
GEO:+49.827666;+5.965534
LOCATION:Festsall @ Grosbous\, Luxemburg
SEQUENCE:0
SUMMARY:GV Schankemännchen
URL:http://www.groussbus.lu/html/Veranstaltung/gv-schankemaennchen/
X-COST-TYPE:free
END:VEVENT
BEGIN:VEVENT
UID:ai1ec-4680@www.groussbus.lu/html
DTSTAMP:20200125T112824Z
CATEGORIES;LANGUAGE=de-DE:Assemblées
CONTACT:
DESCRIPTION:
DTSTART;VALUE=DATE:20200315
DTEND;VALUE=DATE:20200316
SEQUENCE:0
SUMMARY:GV Groussbusser & Wahler Musek
URL:http://www.groussbus.lu/html/Veranstaltung/gv-groussbusser-wahler-musek
 /
X-COST-TYPE:free
END:VEVENT
BEGIN:VEVENT
UID:ai1ec-4682@www.groussbus.lu/html
DTSTAMP:20200125T112824Z
CATEGORIES;LANGUAGE=de-DE:Assemblées
CONTACT:
DESCRIPTION:
DTSTART;VALUE=DATE:20200329
DTEND;VALUE=DATE:20200330
SEQUENCE:0
SUMMARY:GV Self Defense
URL:http://www.groussbus.lu/html/Veranstaltung/gv-self-defense/
X-COST-TYPE:free
END:VEVENT
BEGIN:VEVENT
UID:ai1ec-3096@www.groussbus.lu/html
DTSTAMP:20200125T112824Z
CATEGORIES;LANGUAGE=de-DE:Assemblées
CONTACT:Dammenturnveräin
DESCRIPTION:
DTSTART;VALUE=DATE:20200922
DTEND;VALUE=DATE:20200923
GEO:+49.826365;+5.965513
LOCATION:Parsall @ Grosbous\, Luxemburg
SEQUENCE:0
SUMMARY:GV Dammenturnveräin
URL:http://www.groussbus.lu/html/Veranstaltung/gv-dammentrnverain/
X-COST-TYPE:free
END:VEVENT
BEGIN:VEVENT
UID:ai1ec-4697@www.groussbus.lu/html
DTSTAMP:20200125T112824Z
CATEGORIES;LANGUAGE=de-DE:Assemblées
CONTACT:APEGD Elterevereenegung
DESCRIPTION:
DTSTART;VALUE=DATE:20201119
DTEND;VALUE=DATE:20201120
SEQUENCE:0
SUMMARY:GV APEGD Elterevereenegung
URL:http://www.groussbus.lu/html/Veranstaltung/gv-apegd-elterevereenegung/
X-COST-TYPE:free
END:VEVENT
BEGIN:VEVENT
UID:ai1ec-3079@www.groussbus.lu/html
DTSTAMP:20200125T112824Z
CATEGORIES;LANGUAGE=de-DE:Assemblées
CONTACT:
DESCRIPTION:
DTSTART;TZID=Europe/Luxembourg:20190125T200000
DTEND;TZID=Europe/Luxembourg:20190125T210000
GEO:+49.824011;+5.958432
LOCATION:Centre Weihersäift @ Grosbous\, Luxemburg
SEQUENCE:0
SUMMARY:GV Pompjeeën
URL:http://www.groussbus.lu/html/Veranstaltung/gv-pompjeeen/
X-COST-TYPE:free
END:VEVENT
BEGIN:VEVENT
UID:ai1ec-3081@www.groussbus.lu/html
DTSTAMP:20200125T112824Z
CATEGORIES;LANGUAGE=de-DE:Assemblées
CONTACT:
DESCRIPTION:
DTSTART;TZID=Europe/Luxembourg:20190206T143000
DTEND;TZID=Europe/Luxembourg:20190206T153000
GEO:+49.826212;+5.965792
LOCATION:Parsall @ Grosbous\, Luxemburg
SEQUENCE:0
SUMMARY:GV Freizeitfrënn
URL:http://www.groussbus.lu/html/Veranstaltung/gv-freizeitfrenn/
X-COST-TYPE:free
END:VEVENT
END:VCALENDAR
